BEGIN:VCALENDAR
VERSION:2.0
PRODID:-//Sequoia Riverlands Trust - ECPv6.15.20//NONSGML v1.0//EN
CALSCALE:GREGORIAN
METHOD:PUBLISH
X-ORIGINAL-URL:https://sequoiariverlands.org
X-WR-CALDESC:Events for Sequoia Riverlands Trust
REFRESH-INTERVAL;VALUE=DURATION:PT1H
X-Robots-Tag:noindex
X-PUBLISHED-TTL:PT1H
BEGIN:VTIMEZONE
TZID:America/Los_Angeles
BEGIN:DAYLIGHT
TZOFFSETFROM:-0800
TZOFFSETTO:-0700
TZNAME:PDT
DTSTART:20240310T100000
END:DAYLIGHT
BEGIN:STANDARD
TZOFFSETFROM:-0700
TZOFFSETTO:-0800
TZNAME:PST
DTSTART:20241103T090000
END:STANDARD
BEGIN:DAYLIGHT
TZOFFSETFROM:-0800
TZOFFSETTO:-0700
TZNAME:PDT
DTSTART:20250309T100000
END:DAYLIGHT
BEGIN:STANDARD
TZOFFSETFROM:-0700
TZOFFSETTO:-0800
TZNAME:PST
DTSTART:20251102T090000
END:STANDARD
BEGIN:DAYLIGHT
TZOFFSETFROM:-0800
TZOFFSETTO:-0700
TZNAME:PDT
DTSTART:20260308T100000
END:DAYLIGHT
BEGIN:STANDARD
TZOFFSETFROM:-0700
TZOFFSETTO:-0800
TZNAME:PST
DTSTART:20261101T090000
END:STANDARD
END:VTIMEZONE
BEGIN:VEVENT
DTSTART;TZID=America/Los_Angeles:20251107T090000
DTEND;TZID=America/Los_Angeles:20251107T113000
DTSTAMP:20260423T045650
CREATED:20251011T063424Z
LAST-MODIFIED:20260128T005945Z
UID:10000005-1762506000-1762515000@sequoiariverlands.org
SUMMARY:Nursery Volunteer Day
DESCRIPTION:Join us for a volunteer day at SRT’s Dry Creek Nursery to help us with native plant propagation\, care\, and other nursery maintenance tasks\n\n\nJoin us for a volunteer day at SRT’s Dry Creek Nursery\, where we grow California native and drought-tolerant plants for landscaping and restoration purposes! Volunteer activities are tailored to allow people of all ages and abilities to participate. Tasks include a range of activities from horticultural (planting\, transplanting\, weeding\, etc.) to nursery maintenance (raking/sweeping\, organizing inventory\, etc.). \nNursery volunteer days are held on the first and third Fridays of every month. For more information\, please feel free to check out our social media accounts or reach out to our Education and Volunteer team at education@sequoiariverlands.org. Looking forward to seeing you out there!
URL:https://sequoiariverlands.org/event/nursery-volunteer-day-2/
CATEGORIES:Volunteer
ATTACH;FMTTYPE=image/jpeg:https://sequoiariverlands.org/wp-content/uploads/d589d82306a241f1331436f6b6cf0c52-3.jpg
END:VEVENT
BEGIN:VEVENT
DTSTART;TZID=America/Los_Angeles:20251108T100000
DTEND;TZID=America/Los_Angeles:20251108T140000
DTSTAMP:20260423T045650
CREATED:20251011T065105Z
LAST-MODIFIED:20260128T005937Z
UID:10000022-1762596000-1762610400@sequoiariverlands.org
SUMMARY:Dry Creek Nursery Plant Sale & Artist Market
DESCRIPTION:Native plants + local artists + good food\, you won’t want to miss it!
URL:https://sequoiariverlands.org/event/dry-creek-nursery-plant-sale-artist-market/2025-11-08/
CATEGORIES:Dry Creek Nursery
END:VEVENT
BEGIN:VEVENT
DTSTART;TZID=America/Los_Angeles:20251115T090000
DTEND;TZID=America/Los_Angeles:20251115T130000
DTSTAMP:20260423T045650
CREATED:20251011T063424Z
LAST-MODIFIED:20260128T005945Z
UID:10000006-1763197200-1763211600@sequoiariverlands.org
SUMMARY:SEED Gathering #1: Kaweah Oaks Preserve
DESCRIPTION:Join educators\, students & community to discover the preserve’s geology\, ecology\, & history through engaging lessons and resources.Join educators\, students\, and community members at Kaweah Oaks Preserve\, hosted by Sequoia Riverlands Trust. Explore the preserve’s rich geology\, ecology\, and history while learning about oak woodland habitats\, local wildlife\, and the vital role of water in our region. Hands-on lessons will highlight the importance of groundwater recharge and soil health\, alongside resources for oak woodland hikes and classroom activities. Together\, we’ll connect science\, land\, and community to better understand how natural systems sustain us and how we can care for them into the future. This event is FREE for all attendees! Logistics When: Saturday\, November 15 | 9:00 AM – 1:00 PM Where: Kaweah Oaks Preserve | 29979 Rd 182\, Exeter\, CA 93221 Questions? Email: seed@sequoiariverlands.org for more information!
URL:https://sequoiariverlands.org/event/seed-gathering-1-kaweah-oaks-preserve/
CATEGORIES:Education,SEED
ATTACH;FMTTYPE=image/jpeg:https://sequoiariverlands.org/wp-content/uploads/a82b76e81d93e6d903669625936573f3-1.jpg
END:VEVENT
BEGIN:VEVENT
DTSTART;TZID=America/Los_Angeles:20251122T080000
DTEND;TZID=America/Los_Angeles:20251122T113000
DTSTAMP:20260423T045650
CREATED:20251011T065625Z
LAST-MODIFIED:20260128T005937Z
UID:10000020-1763798400-1763811000@sequoiariverlands.org
SUMMARY:Dry Creek Nursery @ The Visalia Farmers Market
DESCRIPTION:Dry Creek Nursery will be at the Farmers Market! \n\n\n\nWe’re bringing a beautiful selection of native plants for sale and can’t wait to connect with fellow plant lovers and community members. \n\n\n\nThis is the first of our monthly market appearances\, so be sure to stop by\, say hello\, and take home something green! 
URL:https://sequoiariverlands.org/event/dry-creek-nursery-the-visalia-farmers-market/2025-11-22/
LOCATION:Visalia Farmers Market\, 2231 W. Main Street\, California\, 93291\, United States
CATEGORIES:Dry Creek Nursery
END:VEVENT
END:VCALENDAR