BEGIN:VCALENDAR
VERSION:2.0
PRODID:-//Sequoia Riverlands Trust - ECPv6.15.20//NONSGML v1.0//EN
CALSCALE:GREGORIAN
METHOD:PUBLISH
X-WR-CALNAME:Sequoia Riverlands Trust
X-ORIGINAL-URL:https://sequoiariverlands.org
X-WR-CALDESC:Events for Sequoia Riverlands Trust
REFRESH-INTERVAL;VALUE=DURATION:PT1H
X-Robots-Tag:noindex
X-PUBLISHED-TTL:PT1H
BEGIN:VTIMEZONE
TZID:America/Los_Angeles
BEGIN:DAYLIGHT
TZOFFSETFROM:-0800
TZOFFSETTO:-0700
TZNAME:PDT
DTSTART:20240310T100000
END:DAYLIGHT
BEGIN:STANDARD
TZOFFSETFROM:-0700
TZOFFSETTO:-0800
TZNAME:PST
DTSTART:20241103T090000
END:STANDARD
BEGIN:DAYLIGHT
TZOFFSETFROM:-0800
TZOFFSETTO:-0700
TZNAME:PDT
DTSTART:20250309T100000
END:DAYLIGHT
BEGIN:STANDARD
TZOFFSETFROM:-0700
TZOFFSETTO:-0800
TZNAME:PST
DTSTART:20251102T090000
END:STANDARD
BEGIN:DAYLIGHT
TZOFFSETFROM:-0800
TZOFFSETTO:-0700
TZNAME:PDT
DTSTART:20260308T100000
END:DAYLIGHT
BEGIN:STANDARD
TZOFFSETFROM:-0700
TZOFFSETTO:-0800
TZNAME:PST
DTSTART:20261101T090000
END:STANDARD
BEGIN:DAYLIGHT
TZOFFSETFROM:-0800
TZOFFSETTO:-0700
TZNAME:PDT
DTSTART:20270314T100000
END:DAYLIGHT
BEGIN:STANDARD
TZOFFSETFROM:-0700
TZOFFSETTO:-0800
TZNAME:PST
DTSTART:20271107T090000
END:STANDARD
END:VTIMEZONE
BEGIN:VEVENT
DTSTART;TZID=America/Los_Angeles:20260418T090000
DTEND;TZID=America/Los_Angeles:20260418T120000
DTSTAMP:20260421T035540
CREATED:20260331T223045Z
LAST-MODIFIED:20260409T233917Z
UID:10000069-1776502800-1776513600@sequoiariverlands.org
SUMMARY:OUTside Pride 2026
DESCRIPTION:Saturday\, April 18 | 9:00 AM–12:00 PM\n\n\n\n\n\n\n\nSome mornings are made for getting your hands dirty and your heart full. \n\n\n\nOUTside Pride is back at Kaweah Oaks Preserve\, and this year\, the whole community is invited to show up\, give back\, and celebrate the land we share. Presented by Sequoia Riverlands Trust\, the Visalia Pride Lions\, The Source LGBT+ Center\, and PFLAG Tulare & Kings Counties\, this free morning of stewardship and celebration is open to everyone. \n\n\n\nVolunteers will work side by side to care for one of the Central Valley’s most beloved nature preserves through hands-on stewardship activities designed for all ages and abilities. No experience necessary — just a willingness to show up. Lunch follows at noon\, because good work deserves a good meal. \n\n\n\nConservation is for everyone. Come prove it. \n\n\n\n\n\n\n\nWhat to Expect\n\n\n\n\nHands-on stewardship activities accessible to all ages and abilities\n\n\n\nA morning on one of the Central Valley’s most beautiful nature preserves\n\n\n\nCommunity connection with neighboring organizations and fellow volunteers\n\n\n\nLunch at noon to close out the morning\n\n\n\n\n\n\n\n\nStewardship Comes First\n\n\n\nVisitors are asked to tread lightly\, respect posted guidance\, and help ensure this rare landscape remains intact for the species that depend on it—and for future generations to experience responsibly. \n\n\n\n\n\n\n\n\n\n\n\n\n\n\n\n\n\n\n\n	\n\n		\n		\n		\n\n		\n\n		\n\n\n\n	Tickets\n\n		\n	\n	\n		The numbers below include tickets for this event already in your cart. Clicking "Get Tickets" will allow you to edit any existing attendee information as well as change ticket quantities.	\n\n\n		\n		\n		\n	\n		Tickets are no longer available	\n\n\n		\n	\n	\n\n	\n	\n\n	\n	\n\n\n\n			\n\n	\n\n\n\n\n\n\n\n\n\n\nFrequently Asked Questions\n\n\n\nClick on a dropdown arrow to read more. \n\n\n\nIs this event really free?\nYes. OUTside Pride is completely free to attend. Please RSVP so SRT can plan accordingly. \n\n\n\n\n\n\n\n\nDo I need to RSVP?\nIt is strongly encouraged. RSVPs help SRT prepare for the right number of volunteers and make sure everyone has what they need for a great morning. \n\n\n\n\n\n\n\n\nIs this event family friendly?\nAbsolutely. OUTside Pride welcomes volunteers of all ages. Kids are encouraged to participate alongside adults in activities designed to be accessible and engaging for everyone. \n\n\n\n\n\n\n\n\nWhat should I wear and bring?\nWear clothes you don’t mind getting dirty and closed-toe shoes appropriate for outdoor terrain. Bring a water bottle\, sunscreen\, and a hat. \n\n\n\n\n\n\n\n\nDo I need any prior experience with conservation or stewardship?\nNot at all. No experience is necessary. Staff will guide volunteers through all activities and make sure everyone feels comfortable and prepared. \n\n\n\n\n\n\n\n\nIs the preserve accessible for people mobility limitations?\nOUTside Pride welcomes volunteers of all abilities. Please reach out to in advance to Education & Volunteer Coordinator Nicole Buckner if you have specific accessibility needs and we will do our best to accommodate you. \n\n\n\n\n\n\n\n\nWhere do I park?\nPlenty of free parking is available onsite at Kaweah Oaks Preserve. Look for signage upon arrival. \n\n\n\n\n\n\n\n\nWill lunch be provided?\nYes. Lunch will be served at noon following the morning’s stewardship activities. \n\n\n\n\n\n\n\n\nWho is putting this event on?\nOUTside Pride is a collaborative effort between Sequoia Riverlands Trust\, the Visalia Pride Lions\, The Source LGBT+ Center\, and PFLAG Tulare & Kings Counties. It’s a community event in every sense of the word. \n\n\n\n\n\n\n\n\nI have more questions. Who do I contact?\nClick here to reach out to Education & Volunteer Coordinator Nicole Buckner.
URL:https://sequoiariverlands.org/event/outside-pride-2026/
CATEGORIES:Education,Featured,Volunteer
ATTACH;FMTTYPE=image/jpeg:https://sequoiariverlands.org/wp-content/uploads/2026_OUTside-Pride_1x1.jpg
END:VEVENT
BEGIN:VEVENT
DTSTART;TZID=America/Los_Angeles:20260418T090000
DTEND;TZID=America/Los_Angeles:20260418T120000
DTSTAMP:20260421T035540
CREATED:20260225T183712Z
LAST-MODIFIED:20260327T210340Z
UID:10000052-1776502800-1776513600@sequoiariverlands.org
SUMMARY:Stewardship Day
DESCRIPTION:Help care for Kaweah Oaks Preserve through planting native species\, removing invasives\, trail upkeep\, and educational projects.  \n\n\n\nTasks can be adjusted for all ages and abilities.
URL:https://sequoiariverlands.org/event/stewardship-day-7/
LOCATION:Kaweah Oaks Preserve – Sequoia Riverlands Trust\, 29979 Road 182\, Exeter\, CA\, 93221\, United States
CATEGORIES:Education,Volunteer
ATTACH;FMTTYPE=image/heic:https://sequoiariverlands.org/wp-content/uploads/IMG_4791-scaled-e1773176827806.jpg
END:VEVENT
BEGIN:VEVENT
DTSTART;TZID=America/Los_Angeles:20260417T090000
DTEND;TZID=America/Los_Angeles:20260417T113000
DTSTAMP:20260421T035540
CREATED:20260310T210104Z
LAST-MODIFIED:20260327T210318Z
UID:10000053-1776416400-1776425400@sequoiariverlands.org
SUMMARY:Nursery Volunteer Day
DESCRIPTION:Help grow native plants at Dry Creek Nursery through propagation\, plant care\, and hands-on volunteer projects! \n\n\n\n\n\n\n\nVolunteers help grow the California native and drought-tolerant plants used in our preserves and landscaping projects.  \n\n\n\nActivities are open to all ages and experience levels and may include propagation\, transplanting\, weeding\, tidying beds\, and general nursery maintenance.
URL:https://sequoiariverlands.org/event/nursery-volunteer-day-20/
LOCATION:Dry Creek Preserve – Sequoia Riverlands Trust\, 35220 Dry Creek Drive\, Woodlake\, CA\, 93286\, United States
CATEGORIES:Dry Creek Nursery,Volunteer
ATTACH;FMTTYPE=image/jpeg:https://sequoiariverlands.org/wp-content/uploads/IMG_1519-rotated.jpg
END:VEVENT
BEGIN:VEVENT
DTSTART;TZID=America/Los_Angeles:20260411T090000
DTEND;TZID=America/Los_Angeles:20260411T130000
DTSTAMP:20260421T035540
CREATED:20251011T063452Z
LAST-MODIFIED:20260128T005944Z
UID:10000013-1775898000-1775912400@sequoiariverlands.org
SUMMARY:SEED Gathering #3: Composting and Food Waste
DESCRIPTION:Explore composting & regenerative farming with educators\, students & community.\n\n\nHosted by Foodlink Tulare County\, this SEED Gathering invites educators\, students\, and community members to explore how healthy soil and sustainable practices connect food\, farming\, and climate resilience. Participants will learn about composting\, soil building\, and how food waste can be transformed into valuable resources. Educators will also engage with regenerative agriculture lessons\, including hands-on activities that model the interconnected systems of soil\, plants\, animals\, and people. Together\, we’ll connect classroom-ready resources with community-based solutions\, building understanding of how regenerative practices support both ecosystems and food security in the Central Valley. \nThis event is FREE for all attendees! \nLogistics \nWhen: Saturday\, April 11 | 9:00 AM – 1:00 PM \nWhere: TBD \nQuestions? Email: seed@sequoiariverlands.org for more information!
URL:https://sequoiariverlands.org/event/seed-gathering-3-composting-and-food-waste/
LOCATION:To Be Determined\, TBD\, Exeter\, CA\, 93221\, United States
CATEGORIES:Education,SEED,Volunteer
ATTACH;FMTTYPE=image/jpeg:https://sequoiariverlands.org/wp-content/uploads/9411afded81e1e7d13b5764e9728c23d.jpg
END:VEVENT
BEGIN:VEVENT
DTSTART;TZID=America/Los_Angeles:20260410T090000
DTEND;TZID=America/Los_Angeles:20260410T113000
DTSTAMP:20260421T035540
CREATED:20260225T182927Z
LAST-MODIFIED:20260327T210157Z
UID:10000049-1775811600-1775820600@sequoiariverlands.org
SUMMARY:Nursery Volunteer Day
DESCRIPTION:Help grow native plants at Dry Creek Nursery through propagation\, plant care\, and hands-on volunteer projects! \n\n\n\n\n\n\n\nVolunteers help grow the California native and drought-tolerant plants used in our preserves and landscaping projects.  \n\n\n\nActivities are open to all ages and experience levels and may include propagation\, transplanting\, weeding\, tidying beds\, and general nursery maintenance.
URL:https://sequoiariverlands.org/event/nursery-volunteer-day-19/
LOCATION:Dry Creek Preserve – Sequoia Riverlands Trust\, 35220 Dry Creek Drive\, Woodlake\, CA\, 93286\, United States
CATEGORIES:Dry Creek Nursery,Volunteer
ATTACH;FMTTYPE=image/jpeg:https://sequoiariverlands.org/wp-content/uploads/IMG_1519-rotated.jpg
END:VEVENT
BEGIN:VEVENT
DTSTART;TZID=America/Los_Angeles:20260327T090000
DTEND;TZID=America/Los_Angeles:20260327T113000
DTSTAMP:20260421T035540
CREATED:20260225T182037Z
LAST-MODIFIED:20260310T205806Z
UID:10000048-1774602000-1774611000@sequoiariverlands.org
SUMMARY:Nursery Volunteer Day
DESCRIPTION:Help grow native plants at Dry Creek Nursery through propagation\, plant care\, and hands-on volunteer projects! \n\n\n\nBe part of our restoration work at SRT’s Dry Creek Nursery! Volunteers help grow the California native and drought-tolerant plants used in our preserves and landscaping projects. Activities are open to all ages and experience levels and may include propagation\, transplanting\, weeding\, tidying beds\, and general nursery maintenance.
URL:https://sequoiariverlands.org/event/nursery-volunteer-day-18/
LOCATION:Dry Creek Preserve – Sequoia Riverlands Trust\, 35220 Dry Creek Drive\, Woodlake\, CA\, 93286\, United States
CATEGORIES:Dry Creek Nursery,Volunteer
ATTACH;FMTTYPE=image/jpeg:https://sequoiariverlands.org/wp-content/uploads/IMG_1519-rotated.jpg
END:VEVENT
BEGIN:VEVENT
DTSTART;TZID=America/Los_Angeles:20260321T090000
DTEND;TZID=America/Los_Angeles:20260321T120000
DTSTAMP:20260421T035540
CREATED:20260225T183328Z
LAST-MODIFIED:20260310T210905Z
UID:10000051-1774083600-1774094400@sequoiariverlands.org
SUMMARY:Stewardship Day
DESCRIPTION:Help care for Kaweah Oaks Preserve through planting native species\, removing invasives\, trail upkeep\, and educational projects. Tasks can be adjusted for all ages and abilities.
URL:https://sequoiariverlands.org/event/stewardship-day-6/
LOCATION:Kaweah Oaks Preserve – Sequoia Riverlands Trust\, 29979 Road 182\, Exeter\, CA\, 93221\, United States
CATEGORIES:Education,Volunteer
ATTACH;FMTTYPE=image/heic:https://sequoiariverlands.org/wp-content/uploads/IMG_4791-scaled-e1773176827806.jpg
END:VEVENT
BEGIN:VEVENT
DTSTART;TZID=America/Los_Angeles:20260306T090000
DTEND;TZID=America/Los_Angeles:20260306T113000
DTSTAMP:20260421T035540
CREATED:20260225T181412Z
LAST-MODIFIED:20260227T171401Z
UID:10000046-1772787600-1772796600@sequoiariverlands.org
SUMMARY:Nursery Volunteer Day
DESCRIPTION:Help grow native plants at Dry Creek Nursery through propagation\, plant care\, and hands-on volunteer projects! \n\n\n\nBe part of our restoration work at SRT’s Dry Creek Nursery! Volunteers help grow the California native and drought-tolerant plants used in our preserves and landscaping projects. Activities are open to all ages and experience levels and may include propagation\, transplanting\, weeding\, tidying beds\, and general nursery maintenance.
URL:https://sequoiariverlands.org/event/nursery-volunteer-day-17/
LOCATION:Dry Creek Preserve – Sequoia Riverlands Trust\, 35220 Dry Creek Drive\, Woodlake\, CA\, 93286\, United States
CATEGORIES:Dry Creek Nursery,Volunteer
END:VEVENT
BEGIN:VEVENT
DTSTART;TZID=America/Los_Angeles:20260221T090000
DTEND;TZID=America/Los_Angeles:20260221T130000
DTSTAMP:20260421T035540
CREATED:20251011T063446Z
LAST-MODIFIED:20260128T005945Z
UID:10000012-1771664400-1771678800@sequoiariverlands.org
SUMMARY:SEED Gathering #2: Capinero Creek Preserve & Pixley Wildlife Preserve
DESCRIPTION:From dairies to birding\, explore Capinero Creek & Pixley Preserves with educators\, students & community through nature & science.\n\n\nHosted by Tule Basin Land & Water Conservation Trust\, this SEED Gathering brings together educators\, students\, and community members to learn about the process of restoring former dairy land into thriving habitat for threatened species. Explore the role of biodiversity\, bird monitoring\, and ongoing restoration research in building healthier ecosystems. Educators will also receive lesson resources on birding\, habitat creation\, and connecting restoration science to the classroom. Join us to discover how restoring land supports wildlife\, water\, and communities across the Central Valley. \nThis event is FREE for all attendees! \nLogistics \nWhen: Saturday\, February 21 | 9:00 AM – 1:00 PM \nWhere: Capinero Creek Preserve\, Pixley Wildlife Preserve \nQuestions? Email: seed@sequoiariverlands.org for more information!
URL:https://sequoiariverlands.org/event/seed-gathering-2-capinero-creek-preserve-pixley-wildlife-preserve/
LOCATION:Pixley National Wildlife Refuge\, Road 88\, Pixley\, CA\, 93256\, United States
CATEGORIES:Education,SEED,Volunteer
ATTACH;FMTTYPE=image/jpeg:https://sequoiariverlands.org/wp-content/uploads/9411afded81e1e7d13b5764e9728c23d.jpg
END:VEVENT
BEGIN:VEVENT
DTSTART;TZID=America/Los_Angeles:20251107T090000
DTEND;TZID=America/Los_Angeles:20251107T113000
DTSTAMP:20260421T035540
CREATED:20251011T063424Z
LAST-MODIFIED:20260128T005945Z
UID:10000005-1762506000-1762515000@sequoiariverlands.org
SUMMARY:Nursery Volunteer Day
DESCRIPTION:Join us for a volunteer day at SRT’s Dry Creek Nursery to help us with native plant propagation\, care\, and other nursery maintenance tasks\n\n\nJoin us for a volunteer day at SRT’s Dry Creek Nursery\, where we grow California native and drought-tolerant plants for landscaping and restoration purposes! Volunteer activities are tailored to allow people of all ages and abilities to participate. Tasks include a range of activities from horticultural (planting\, transplanting\, weeding\, etc.) to nursery maintenance (raking/sweeping\, organizing inventory\, etc.). \nNursery volunteer days are held on the first and third Fridays of every month. For more information\, please feel free to check out our social media accounts or reach out to our Education and Volunteer team at education@sequoiariverlands.org. Looking forward to seeing you out there!
URL:https://sequoiariverlands.org/event/nursery-volunteer-day-2/
CATEGORIES:Volunteer
ATTACH;FMTTYPE=image/jpeg:https://sequoiariverlands.org/wp-content/uploads/d589d82306a241f1331436f6b6cf0c52-3.jpg
END:VEVENT
BEGIN:VEVENT
DTSTART;TZID=America/Los_Angeles:20251018T090000
DTEND;TZID=America/Los_Angeles:20251018T120000
DTSTAMP:20260421T035540
CREATED:20251011T063416Z
LAST-MODIFIED:20260128T005945Z
UID:10000004-1760778000-1760788800@sequoiariverlands.org
SUMMARY:Stewardship Day at Kaweah Oaks Preserve
DESCRIPTION:Join us at SRT’s flagship nature preserve – the Kaweah Oaks Preserve – for a fun day of giving back to your local environment and community!\n\n\nVolunteer activities can include planting trees and other California native plants\, removing invasive plants\, trail maintenance\, educational activities\, and more. All activities can be tailored to be accessible to people of all abilities and ages! \nPlease RSVP if you are planning on joining us at this event. \nStewardship Days at Kaweah Oaks Preserve are held on the third Saturday of every month. For more information or questions\, check out our social media accounts or email the Education and Volunteer team at education@sequoiariverlands.org. \nLooking forward to seeing you out there!
URL:https://sequoiariverlands.org/event/stewardship-day-at-kaweah-oaks-preserve/
CATEGORIES:Volunteer
ATTACH;FMTTYPE=image/jpeg:https://sequoiariverlands.org/wp-content/uploads/34297af7dc722d57340b799c2e2e3a6b-2.jpg
END:VEVENT
BEGIN:VEVENT
DTSTART;TZID=America/Los_Angeles:20251017T090000
DTEND;TZID=America/Los_Angeles:20251017T113000
DTSTAMP:20260421T035540
CREATED:20251011T063407Z
LAST-MODIFIED:20260128T005945Z
UID:10000003-1760691600-1760700600@sequoiariverlands.org
SUMMARY:Nursery Volunteer Day
DESCRIPTION:Join us for a volunteer day at SRT’s Dry Creek Nursery to help us with native plant propagation\, care\, and other nursery maintenance tasks\n\n\nJoin us for a volunteer day at SRT’s Dry Creek Nursery\, where we grow California native and drought-tolerant plants for landscaping and restoration purposes! Volunteer activities are tailored to allow people of all ages and abilities to participate. Tasks include a range of activities from horticultural (planting\, transplanting\, weeding\, etc.) to nursery maintenance (raking/sweeping\, organizing inventory\, etc.). \nNursery volunteer days are held on the first and third Fridays of every month. For more information\, please feel free to check out our social media accounts or reach out to our Education and Volunteer team at education@sequoiariverlands.org. Looking forward to seeing you out there!
URL:https://sequoiariverlands.org/event/nursery-volunteer-day/
CATEGORIES:Volunteer
ATTACH;FMTTYPE=image/jpeg:https://sequoiariverlands.org/wp-content/uploads/d589d82306a241f1331436f6b6cf0c52-3.jpg
END:VEVENT
END:VCALENDAR