BEGIN:VCALENDAR
VERSION:2.0
PRODID:-//Sequoia Riverlands Trust - ECPv6.15.20//NONSGML v1.0//EN
CALSCALE:GREGORIAN
METHOD:PUBLISH
X-ORIGINAL-URL:https://sequoiariverlands.org
X-WR-CALDESC:Events for Sequoia Riverlands Trust
REFRESH-INTERVAL;VALUE=DURATION:PT1H
X-Robots-Tag:noindex
X-PUBLISHED-TTL:PT1H
BEGIN:VTIMEZONE
TZID:America/Los_Angeles
BEGIN:DAYLIGHT
TZOFFSETFROM:-0800
TZOFFSETTO:-0700
TZNAME:PDT
DTSTART:20250309T100000
END:DAYLIGHT
BEGIN:STANDARD
TZOFFSETFROM:-0700
TZOFFSETTO:-0800
TZNAME:PST
DTSTART:20251102T090000
END:STANDARD
BEGIN:DAYLIGHT
TZOFFSETFROM:-0800
TZOFFSETTO:-0700
TZNAME:PDT
DTSTART:20260308T100000
END:DAYLIGHT
BEGIN:STANDARD
TZOFFSETFROM:-0700
TZOFFSETTO:-0800
TZNAME:PST
DTSTART:20261101T090000
END:STANDARD
BEGIN:DAYLIGHT
TZOFFSETFROM:-0800
TZOFFSETTO:-0700
TZNAME:PDT
DTSTART:20270314T100000
END:DAYLIGHT
BEGIN:STANDARD
TZOFFSETFROM:-0700
TZOFFSETTO:-0800
TZNAME:PST
DTSTART:20271107T090000
END:STANDARD
END:VTIMEZONE
BEGIN:VEVENT
DTSTART;TZID=America/Los_Angeles:20260502T090000
DTEND;TZID=America/Los_Angeles:20260502T130000
DTSTAMP:20260421T153857
CREATED:20260326T204955Z
LAST-MODIFIED:20260326T205041Z
UID:10000068-1777712400-1777726800@sequoiariverlands.org
SUMMARY:Artist Market at Dry Creek Nursery
DESCRIPTION:The Dry Creek Nursery Artist Market brings together native plants\, local artists\, and a welcoming outdoor space. \n\n\n\nBrowse a selection of native and drought-tolerant plants while exploring handmade goods from local artists. It’s a chance to discover something new\, support local creatives\, and spend time at the nursey. \n\n\n\nA relaxed\, community-focused atmosphere makes it easy to enjoy art\, plants\, and good food throughout the morning. \n\n\n\nFor questions\, feel free to contact the office or reach out to nursery@sequoiariverlands.org.
URL:https://sequoiariverlands.org/event/artist-market-at-dry-creek-nursery-2/
LOCATION:Dry Creek Nursery\, 35220 Dry Creek Drive\, Woodlake\, California\, 93286\, United States
CATEGORIES:Dry Creek Nursery
ATTACH;FMTTYPE=image/png:https://sequoiariverlands.org/wp-content/uploads/Insta-Post-1.png
END:VEVENT
BEGIN:VEVENT
DTSTART;TZID=America/Los_Angeles:20260509T090000
DTEND;TZID=America/Los_Angeles:20260509T120000
DTSTAMP:20260421T153857
CREATED:20260310T212504Z
LAST-MODIFIED:20260327T211809Z
UID:10000060-1778317200-1778328000@sequoiariverlands.org
SUMMARY:Stewardship Day
DESCRIPTION:Help care for Kaweah Oaks Preserve through planting native species\, removing invasives\, trail upkeep\, and educational projects.  \n\n\n\nTasks can be adjusted for all ages and abilities.
URL:https://sequoiariverlands.org/event/stewardship-day-8/
LOCATION:Kaweah Oaks Preserve – Sequoia Riverlands Trust\, 29979 Road 182\, Exeter\, CA\, 93221\, United States
CATEGORIES:Education,Volunteer
ATTACH;FMTTYPE=image/heic:https://sequoiariverlands.org/wp-content/uploads/IMG_4791-scaled-e1773176827806.jpg
END:VEVENT
BEGIN:VEVENT
DTSTART;TZID=America/Los_Angeles:20260515T090000
DTEND;TZID=America/Los_Angeles:20260515T113000
DTSTAMP:20260421T153857
CREATED:20260310T211844Z
LAST-MODIFIED:20260327T210000Z
UID:10000055-1778835600-1778844600@sequoiariverlands.org
SUMMARY:Nursery Volunteer Day
DESCRIPTION:Help grow native plants at Dry Creek Nursery through propagation\, plant care\, and hands-on volunteer projects! \n\n\n\n\n\n\n\nVolunteers help grow the California native and drought-tolerant plants used in our preserves and landscaping projects.  \n\n\n\nActivities are open to all ages and experience levels and may include propagation\, transplanting\, weeding\, tidying beds\, and general nursery maintenance.
URL:https://sequoiariverlands.org/event/nursery-volunteer-day-22/
LOCATION:Dry Creek Preserve – Sequoia Riverlands Trust\, 35220 Dry Creek Drive\, Woodlake\, CA\, 93286\, United States
CATEGORIES:Dry Creek Nursery,Volunteer
ATTACH;FMTTYPE=image/jpeg:https://sequoiariverlands.org/wp-content/uploads/IMG_1519-rotated.jpg
END:VEVENT
BEGIN:VEVENT
DTSTART;TZID=America/Los_Angeles:20260516T083000
DTEND;TZID=America/Los_Angeles:20260516T113000
DTSTAMP:20260421T153857
CREATED:20260325T224842Z
LAST-MODIFIED:20260402T152239Z
UID:10000064-1778920200-1778931000@sequoiariverlands.org
SUMMARY:Breakfast on the Bluff
DESCRIPTION:Saturday\, May 16 | 8:30–11:30 AM\n\n\n\n\n\n\n\nStart the morning where you belong. \n\n\n\nAs the sun rises over the Sierra Nevada and light spills across Dry Creek Preserve\, the community gathers for breakfast\, music\, and a celebration of the land that connects us all. \n\n\n\nBreakfast on the Bluff is an invitation. An invitation to experience conservation up close. To learn what’s happening right here in the Central Valley. To discover how protecting land and water shapes the future for families\, farms\, and communities. \n\n\n\nThis land is yours. And you belong here. \n\n\n\n\n\n\n\n\n\n\n\nWhat to Expect\n\n\n\n\nA casual hot breakfast\n\n\n\nMimosa bar & breakfast charcuterie\n\n\n\nLive music\n\n\n\n\n \n\n\n\n\n\n\n\nCome Get to Know Sequoia Riverlands Trust\n\n\n\nBreakfast on the Bluff is designed as an open door into the work of SRT. Whether you’re a longtime supporter or brand new to conservation\, this morning offers a chance to connect with staff\, volunteers\, and neighbors who care deeply about the Central Valley. \n\n\n\n\nLearn how land protection works\n\n\n\nMeet the team\n\n\n\nAnd discover how you can be part of the story through volunteering\, donating\, or simply staying connected\n\n\n\n\n\n\n\n\n\n\n\n\n\n\n\n\nSupport the Work\n\n\n\nBreakfast on the Bluff supports ongoing conservation across the Central Valley. Donations can be made during ticket purchase or onsite via cash\, check\, or card. Every dollar raised helps protect land and water for future generations. \n\n\n\n\n\n\n\nKnow Before You Go\n\n\n\n\nLocation: Dry Creek Preserve\n\n\n\nParking available onsite\n\n\n\nTerrain is relatively flat but entirely gravel and uneven—please wear appropriate footwear\n\n\n\nEvent is rain or shine\n\n\n\n\nThis is a morning to celebrate what makes this region special. \n\n\n\nFresh air. Good food. Community connection. \n\n\n\nBelong to something bigger. Belong to the land. \n\n\n\nSee you on the bluff. \n\n\n\n\n\n\n\n\n\n\n\n\n\n	\n\n		\n		\n		\n\n		\n\n		\n\n\n\n	Tickets\n\n		\n	\n	\n		The numbers below include tickets for this event already in your cart. Clicking "Get Tickets" will allow you to edit any existing attendee information as well as change ticket quantities.	\n\n\n		\n		\n		\n	\n		Tickets are no longer available	\n\n\n		\n	\n	\n\n	\n	\n\n	\n	\n\n\n\n			\n\n	\n\n\n\n\n\n\nFrequently Asked Questions\n\n\n\n\n\n\n\nDo I need to RSVP?\nYes. Tickets are required and registration closes Thursday\, May 7. \n\n\n\n\n\n\n\n\nIs this event family-friendly?\nAbsolutely. Kids are welcome and encouraged to participate in activity stations. \n\n\n\n\n\n\n\n\nIs there seating?\nYes\, casual seating will be available\, though some walking between stations is expected. \n\n\n\n\n\n\n\n\nWhat is the terrain like?\nDry Creek Preserve is relatively flat but entirely gravel and uneven terrain. Comfortable shoes are strongly recommended. \n\n\n\n\n\n\n\n\nCan I bring my dog?\nYes. Well-behaved pets are welcome on leash. Please pick up after your pet. \n\n\n\n\n\n\n\n\nWhat happens if it rains?\nThe event will take place rain or shine. \n\n\n\n\n\n\n\n\nWhere does my ticket money go?\nProceeds support conservation work across the Central Valley.
URL:https://sequoiariverlands.org/event/breakfast-on-the-bluff/
LOCATION:Dry Creek Preserve – Sequoia Riverlands Trust\, 35220 Dry Creek Drive\, Woodlake\, CA\, 93286\, United States
CATEGORIES:Featured,Special Events
ATTACH;FMTTYPE=image/jpeg:https://sequoiariverlands.org/wp-content/uploads/2026_BOTB_DIGITAL_1x1.jpg
END:VEVENT
BEGIN:VEVENT
DTSTART;TZID=America/Los_Angeles:20260530T080000
DTEND;TZID=America/Los_Angeles:20260530T113000
DTSTAMP:20260421T153857
CREATED:20260325T222929Z
LAST-MODIFIED:20260326T175611Z
UID:10000066-1780128000-1780140600@sequoiariverlands.org
SUMMARY:Dry Creek Nursery at Visalia Farmers Market
DESCRIPTION:Visit Dry Creek Nursery at the Visalia Farmers Market and stop by the booth to explore a selection of native and drought-tolerant plants\, perfect for your home garden or landscape. \n\n\n\nWhether you’re browsing\, shopping\, or looking for guidance\, the nursery team will be there to answer questions and help you find the right plants for your space. It’s a great opportunity to learn more about water-wise gardening and incorporating native plants into your yard. \n\n\n\nHave a specific plant in mind? You’re welcome to reach out ahead of time with requests. For questions or plant inquiries\, call the office or email nursery@sequoiariverlands.org. Please note plant requests must be placed by Friday\, May 29 at 2:00 PM.
URL:https://sequoiariverlands.org/event/dry-creek-nursery-at-visalia-farmers-market-3/
LOCATION:Visalia Farmers Market\, 2231 W. Main Street\, California\, 93291\, United States
CATEGORIES:Dry Creek Nursery
ATTACH;FMTTYPE=image/jpeg:https://sequoiariverlands.org/wp-content/uploads/PXL_20260124_155211907-2-scaled.jpg
END:VEVENT
BEGIN:VEVENT
DTSTART;TZID=America/Los_Angeles:20260605T090000
DTEND;TZID=America/Los_Angeles:20260605T113000
DTSTAMP:20260421T153857
CREATED:20260310T211922Z
LAST-MODIFIED:20260327T205901Z
UID:10000056-1780650000-1780659000@sequoiariverlands.org
SUMMARY:Nursery Volunteer Day
DESCRIPTION:Help grow native plants at Dry Creek Nursery through propagation\, plant care\, and hands-on volunteer projects! \n\n\n\n\n\n\n\nVolunteers help grow the California native and drought-tolerant plants used in our preserves and landscaping projects.  \n\n\n\nActivities are open to all ages and experience levels and may include propagation\, transplanting\, weeding\, tidying beds\, and general nursery maintenance.
URL:https://sequoiariverlands.org/event/nursery-volunteer-day-23/
LOCATION:Dry Creek Preserve – Sequoia Riverlands Trust\, 35220 Dry Creek Drive\, Woodlake\, CA\, 93286\, United States
CATEGORIES:Dry Creek Nursery,Volunteer
ATTACH;FMTTYPE=image/jpeg:https://sequoiariverlands.org/wp-content/uploads/IMG_1519-rotated.jpg
END:VEVENT
BEGIN:VEVENT
DTSTART;TZID=America/Los_Angeles:20260612T090000
DTEND;TZID=America/Los_Angeles:20260612T113000
DTSTAMP:20260421T153857
CREATED:20260310T211941Z
LAST-MODIFIED:20260327T205732Z
UID:10000057-1781254800-1781263800@sequoiariverlands.org
SUMMARY:Nursery Volunteer Day
DESCRIPTION:Help grow native plants at Dry Creek Nursery through propagation\, plant care\, and hands-on volunteer projects! \n\n\n\n\n\n\n\nVolunteers help grow the California native and drought-tolerant plants used in our preserves and landscaping projects.  \n\n\n\nActivities are open to all ages and experience levels and may include propagation\, transplanting\, weeding\, tidying beds\, and general nursery maintenance.
URL:https://sequoiariverlands.org/event/nursery-volunteer-day-24/
LOCATION:Dry Creek Preserve – Sequoia Riverlands Trust\, 35220 Dry Creek Drive\, Woodlake\, CA\, 93286\, United States
CATEGORIES:Dry Creek Nursery,Volunteer
ATTACH;FMTTYPE=image/jpeg:https://sequoiariverlands.org/wp-content/uploads/IMG_1519-rotated.jpg
END:VEVENT
BEGIN:VEVENT
DTSTART;TZID=America/Los_Angeles:20260613T080000
DTEND;TZID=America/Los_Angeles:20260613T110000
DTSTAMP:20260421T153857
CREATED:20260310T212623Z
LAST-MODIFIED:20260415T225030Z
UID:10000061-1781337600-1781348400@sequoiariverlands.org
SUMMARY:Stewardship Day
DESCRIPTION:Help care for Kaweah Oaks Preserve through planting native species\, removing invasives\, trail upkeep\, and educational projects.  \n\n\n\nTasks can be adjusted for all ages and abilities.
URL:https://sequoiariverlands.org/event/stewardship-day-9/
LOCATION:Kaweah Oaks Preserve – Sequoia Riverlands Trust\, 29979 Road 182\, Exeter\, CA\, 93221\, United States
CATEGORIES:Education,Volunteer
ATTACH;FMTTYPE=image/heic:https://sequoiariverlands.org/wp-content/uploads/IMG_4791-scaled-e1773176827806.jpg
END:VEVENT
BEGIN:VEVENT
DTSTART;TZID=America/Los_Angeles:20260710T090000
DTEND;TZID=America/Los_Angeles:20260710T113000
DTSTAMP:20260421T153857
CREATED:20260310T212016Z
LAST-MODIFIED:20260327T205256Z
UID:10000058-1783674000-1783683000@sequoiariverlands.org
SUMMARY:Nursery Volunteer Day
DESCRIPTION:Help grow native plants at Dry Creek Nursery through propagation\, plant care\, and hands-on volunteer projects! \n\n\n\n\n\n\n\nVolunteers help grow the California native and drought-tolerant plants used in our preserves and landscaping projects. \n\n\n\nActivities are open to all ages and experience levels and may include propagation\, transplanting\, weeding\, tidying beds\, and general nursery maintenance.
URL:https://sequoiariverlands.org/event/nursery-volunteer-day-25/
LOCATION:Dry Creek Preserve – Sequoia Riverlands Trust\, 35220 Dry Creek Drive\, Woodlake\, CA\, 93286\, United States
CATEGORIES:Dry Creek Nursery,Volunteer
ATTACH;FMTTYPE=image/jpeg:https://sequoiariverlands.org/wp-content/uploads/IMG_1519-rotated.jpg
END:VEVENT
BEGIN:VEVENT
DTSTART;TZID=America/Los_Angeles:20260717T090000
DTEND;TZID=America/Los_Angeles:20260717T113000
DTSTAMP:20260421T153857
CREATED:20260310T212035Z
LAST-MODIFIED:20260327T205340Z
UID:10000059-1784278800-1784287800@sequoiariverlands.org
SUMMARY:Nursery Volunteer Day
DESCRIPTION:Help grow native plants at Dry Creek Nursery through propagation\, plant care\, and hands-on volunteer projects! \n\n\n\n\n\n\n\nVolunteers help grow the California native and drought-tolerant plants used in our preserves and landscaping projects.  \n\n\n\nActivities are open to all ages and experience levels and may include propagation\, transplanting\, weeding\, tidying beds\, and general nursery maintenance.
URL:https://sequoiariverlands.org/event/nursery-volunteer-day-26/
LOCATION:Dry Creek Preserve – Sequoia Riverlands Trust\, 35220 Dry Creek Drive\, Woodlake\, CA\, 93286\, United States
CATEGORIES:Dry Creek Nursery,Volunteer
ATTACH;FMTTYPE=image/jpeg:https://sequoiariverlands.org/wp-content/uploads/IMG_1519-rotated.jpg
END:VEVENT
BEGIN:VEVENT
DTSTART;TZID=America/Los_Angeles:20260718T080000
DTEND;TZID=America/Los_Angeles:20260718T110000
DTSTAMP:20260421T153857
CREATED:20260310T212959Z
LAST-MODIFIED:20260415T225101Z
UID:10000062-1784361600-1784372400@sequoiariverlands.org
SUMMARY:Stewardship Day
DESCRIPTION:Help care for Kaweah Oaks Preserve through planting native species\, removing invasives\, trail upkeep\, and educational projects.  \n\n\n\nTasks can be adjusted for all ages and abilities.
URL:https://sequoiariverlands.org/event/stewardship-day-10/
LOCATION:Kaweah Oaks Preserve – Sequoia Riverlands Trust\, 29979 Road 182\, Exeter\, CA\, 93221\, United States
CATEGORIES:Education,Volunteer
ATTACH;FMTTYPE=image/heic:https://sequoiariverlands.org/wp-content/uploads/IMG_4791-scaled-e1773176827806.jpg
END:VEVENT
END:VCALENDAR