BEGIN:VCALENDAR
VERSION:2.0
PRODID:-//Sequoia Riverlands Trust - ECPv6.15.20//NONSGML v1.0//EN
CALSCALE:GREGORIAN
METHOD:PUBLISH
X-WR-CALNAME:Sequoia Riverlands Trust
X-ORIGINAL-URL:https://sequoiariverlands.org
X-WR-CALDESC:Events for Sequoia Riverlands Trust
REFRESH-INTERVAL;VALUE=DURATION:PT1H
X-Robots-Tag:noindex
X-PUBLISHED-TTL:PT1H
BEGIN:VTIMEZONE
TZID:America/Los_Angeles
BEGIN:DAYLIGHT
TZOFFSETFROM:-0800
TZOFFSETTO:-0700
TZNAME:PDT
DTSTART:20250309T100000
END:DAYLIGHT
BEGIN:STANDARD
TZOFFSETFROM:-0700
TZOFFSETTO:-0800
TZNAME:PST
DTSTART:20251102T090000
END:STANDARD
BEGIN:DAYLIGHT
TZOFFSETFROM:-0800
TZOFFSETTO:-0700
TZNAME:PDT
DTSTART:20260308T100000
END:DAYLIGHT
BEGIN:STANDARD
TZOFFSETFROM:-0700
TZOFFSETTO:-0800
TZNAME:PST
DTSTART:20261101T090000
END:STANDARD
BEGIN:DAYLIGHT
TZOFFSETFROM:-0800
TZOFFSETTO:-0700
TZNAME:PDT
DTSTART:20270314T100000
END:DAYLIGHT
BEGIN:STANDARD
TZOFFSETFROM:-0700
TZOFFSETTO:-0800
TZNAME:PST
DTSTART:20271107T090000
END:STANDARD
END:VTIMEZONE
BEGIN:VEVENT
DTSTART;TZID=America/Los_Angeles:20260306T100000
DTEND;TZID=America/Los_Angeles:20260306T110000
DTSTAMP:20260423T113441
CREATED:20260129T000324Z
LAST-MODIFIED:20260227T171319Z
UID:10000041-1772791200-1772794800@sequoiariverlands.org
SUMMARY:Grand Re-Opening: Dry Creek Nursery | Ribbon Cutting & VIP Sale
DESCRIPTION:Free & open to the public \n\n\n\n\nGET DIRECTIONS\n\n\n\n\n\n\n\n\nA Nursery Rooted in Restoration. A Future Full of Native Plants.\n\n\n\nDry Creek Nursery is reopening—expanded\, reimagined\, and ready for its next chapter. \n\n\n\nThis two-day celebration marks the transformation of a local nursery into a hub for conservation\, workforce development\, and community-powered restoration. What’s growing here goes far beyond plants. It’s knowledge\, opportunity\, and a shared commitment to healthier landscapes across California’s heartland. \n\n\n\nWhether you’re a plant lover\, conservation enthusiast\, neighbor\, policymaker\, or simply curious\, this event offers a chance to step inside\, explore the space\, and see how restoration takes root. \n\n\n\n\n\n\n\nEvent Schedule\n\n\n\nFriday\, March 6 | Ribbon Cutting & KickoffOpening Ceremony at 10:00 AM \n\n\n\n\nRibbon cutting and remarks from local leaders\n\n\n\nFirst look at the new Dry Creek Nursery brand\n\n\n\nTours of the nursery and growing space\n\n\n\nNative plants for sale\n\n\n\n\nFriday is an opportunity to celebrate the vision behind Dry Creek Nursery and the partnerships that made this expansion possible. \n\n\n\n\n\n\n\nWhy It Matters\n\n\n\nDry Creek Nursery plays a vital role in restoring landscapes\, supporting local workers\, and building climate resilience—one native plant at a time. The nursery supplies plants for habitat restoration projects across the region while also creating opportunities for hands-on learning and workforce development. \n\n\n\nShowing up matters. Your presence helps spotlight the essential role nurseries like this play in caring for land\, supporting communities\, and shaping a more resilient future. \n\n\n\n\n\n\n\nWhat to Know Before You Go\n\n\n\n\nFree and open to the public\n\n\n\nRSVPs encouraged but not required\n\n\n\nOn-site parking available\n\n\n\nRestrooms available\n\n\n\nPets welcome on leash\n\n\n\nRain or shine\n\n\n\nPlant sales accept cash and card\n\n\n\n\n\n\n\n\nRSVP\n\n\n\nAre you coming? Let us know by RSVPing below—it helps with planning.
URL:https://sequoiariverlands.org/event/grand-re-opening-dry-creek-nursery/
LOCATION:Dry Creek Preserve – Sequoia Riverlands Trust\, 35220 Dry Creek Drive\, Woodlake\, CA\, 93286\, United States
CATEGORIES:Dry Creek Nursery,Featured,Special Events
ATTACH;FMTTYPE=image/jpeg:https://sequoiariverlands.org/wp-content/uploads/dcn-grand-opening.jpg
END:VEVENT
END:VCALENDAR