BEGIN:VCALENDAR
VERSION:2.0
PRODID:-//Sequoia Riverlands Trust - ECPv6.15.20//NONSGML v1.0//EN
CALSCALE:GREGORIAN
METHOD:PUBLISH
X-ORIGINAL-URL:https://sequoiariverlands.org
X-WR-CALDESC:Events for Sequoia Riverlands Trust
REFRESH-INTERVAL;VALUE=DURATION:PT1H
X-Robots-Tag:noindex
X-PUBLISHED-TTL:PT1H
BEGIN:VTIMEZONE
TZID:America/Los_Angeles
BEGIN:DAYLIGHT
TZOFFSETFROM:-0800
TZOFFSETTO:-0700
TZNAME:PDT
DTSTART:20250309T100000
END:DAYLIGHT
BEGIN:STANDARD
TZOFFSETFROM:-0700
TZOFFSETTO:-0800
TZNAME:PST
DTSTART:20251102T090000
END:STANDARD
BEGIN:DAYLIGHT
TZOFFSETFROM:-0800
TZOFFSETTO:-0700
TZNAME:PDT
DTSTART:20260308T100000
END:DAYLIGHT
BEGIN:STANDARD
TZOFFSETFROM:-0700
TZOFFSETTO:-0800
TZNAME:PST
DTSTART:20261101T090000
END:STANDARD
BEGIN:DAYLIGHT
TZOFFSETFROM:-0800
TZOFFSETTO:-0700
TZNAME:PDT
DTSTART:20270314T100000
END:DAYLIGHT
BEGIN:STANDARD
TZOFFSETFROM:-0700
TZOFFSETTO:-0800
TZNAME:PST
DTSTART:20271107T090000
END:STANDARD
END:VTIMEZONE
BEGIN:VEVENT
DTSTART;TZID=America/Los_Angeles:20260307T090000
DTEND;TZID=America/Los_Angeles:20260307T140000
DTSTAMP:20260421T153517
CREATED:20260130T203415Z
LAST-MODIFIED:20260227T171253Z
UID:10000042-1772874000-1772892000@sequoiariverlands.org
SUMMARY:Grand Re-Opening: Dry Creek Nursery | Artists Market
DESCRIPTION:Free & open to the public \n\n\n\n\nGET DIRECTIONS\n\n\n\n\n\n\n\n\nA Nursery Rooted in Restoration. A Future Full of Native Plants.\n\n\n\nDry Creek Nursery is reopening—expanded\, reimagined\, and ready for its next chapter. \n\n\n\nThis two-day celebration marks the transformation of a local nursery into a hub for conservation\, workforce development\, and community-powered restoration. What’s growing here goes far beyond plants. It’s knowledge\, opportunity\, and a shared commitment to healthier landscapes across California’s heartland. \n\n\n\nWhether you’re a plant lover\, conservation enthusiast\, neighbor\, policymaker\, or simply curious\, this event offers a chance to step inside\, explore the space\, and see how restoration takes root. \n\n\n\n\n\n\n\nEvent Schedule\n\n\n\nSaturday\, March 7 | Artists MarketMarket open at 9:00 AM \n\n\n\n\nNative plants for sale\n\n\n\nArtist Market with local creators\n\n\n\nTours and open exploration of the nursery\n\n\n\nMeet the crew behind the mission\n\n\n\nPlenty of fresh air\, learning\, and inspiration\n\n\n\n\nSaturday is designed as a community-forward\, festival-style day—perfect for families\, gardeners\, and anyone excited about native plants and local creativity. \n\n\n\n\n\n\n\nWhy It Matters\n\n\n\nDry Creek Nursery plays a vital role in restoring landscapes\, supporting local workers\, and building climate resilience—one native plant at a time. The nursery supplies plants for habitat restoration projects across the region while also creating opportunities for hands-on learning and workforce development. \n\n\n\nShowing up matters. Your presence helps spotlight the essential role nurseries like this play in caring for land\, supporting communities\, and shaping a more resilient future. \n\n\n\n\n\n\n\nWhat to Know Before You Go\n\n\n\n\nFree and open to the public\n\n\n\nRSVPs encouraged but not required\n\n\n\nOn-site parking available\n\n\n\nRestrooms available\n\n\n\nPets welcome on leash\n\n\n\nRain or shine\n\n\n\nPlant sales accept cash and card\n\n\n\n\n\n\n\n\nRSVP\n\n\n\nAre you coming? Let us know by RSVPing below—it helps with planning.
URL:https://sequoiariverlands.org/event/grand-re-opening-dry-creek-nursery-2/
LOCATION:Dry Creek Preserve – Sequoia Riverlands Trust\, 35220 Dry Creek Drive\, Woodlake\, CA\, 93286\, United States
CATEGORIES:Dry Creek Nursery,Featured,Special Events
ATTACH;FMTTYPE=image/jpeg:https://sequoiariverlands.org/wp-content/uploads/dcn-grand-opening.jpg
END:VEVENT
END:VCALENDAR